dset ^BAM12_2026050100_MNTH00.dat
title CPTEC/INPE seasonal forecast ensemble mean (15 members) issued jun 2026 for mnth0: jul 2026 (1 month)
*Variable:  rotational zonal wind total (m/s)
undef -999000000
*Data Dimensions:
xdef 384 linear 0 0.9375
YDEF 192 levels -89.28423 -88.357 -87.4243 -86.49037 -85.55596 -84.62133 -83.68657 -82.75173 -81.81684 -80.88191
 -79.94696 -79.01199 -78.07701 -77.14201 -76.20701 -75.27199 -74.33697 -73.40195 -72.46692 -71.53189 
 -70.59685 -69.66182 -68.72678 -67.79173 -66.85669 -65.92165 -64.9866 -64.05155 -63.1165 -62.18145 
 -61.2464 -60.31135 -59.3763 -58.44124 -57.50619 -56.57114 -55.63608 -54.70103 -53.76597 -52.83091 
 -51.89586 -50.9608 -50.02574 -49.09069 -48.15563 -47.22057 -46.28551 -45.35045 -44.4154 -43.48034 
 -42.54528 -41.61022 -40.67516 -39.7401 -38.80504 -37.86998 -36.93492 -35.99986 -35.0648 -34.12974 
 -33.19468 -32.25962 -31.32456 -30.3895 -29.45444 -28.51938 -27.58431 -26.64925 -25.71419 -24.77913 
 -23.84407 -22.90901 -21.97395 -21.03889 -20.10383 -19.16876 -18.2337 -17.29864 -16.36358 -15.42852 
 -14.49346 -13.55839 -12.62333 -11.68827 -10.75321 -9.81815 -8.88309 -7.94802 -7.01296 -6.0779 
 -5.14284 -4.20778 -3.27272 -2.33765 -1.40259 -0.46753 0.46753 1.40259 2.33765 3.27272 
 4.20778 5.14284 6.0779 7.01296 7.94802 8.88309 9.81815 10.75321 11.68827 12.62333 
 13.55839 14.49346 15.42852 16.36358 17.29864 18.2337 19.16876 20.10383 21.03889 21.97395 
 22.90901 23.84407 24.77913 25.71419 26.64925 27.58431 28.51938 29.45444 30.3895 31.32456 
 32.25962 33.19468 34.12974 35.0648 35.99986 36.93492 37.86998 38.80504 39.7401 40.67516 
 41.61022 42.54528 43.48034 44.4154 45.35045 46.28551 47.22057 48.15563 49.09069 50.02574 
 50.9608 51.89586 52.83091 53.76597 54.70103 55.63608 56.57114 57.50619 58.44124 59.3763 
 60.31135 61.2464 62.18145 63.1165 64.05155 64.9866 65.92165 66.85669 67.79173 68.72678 
 69.66182 70.59685 71.53189 72.46692 73.40195 74.33697 75.27199 76.20701 77.14201 78.07701 
 79.01199 79.94696 80.88191 81.81684 82.75173 83.68657 84.62133 85.55596 86.49037 87.4243 
 88.357 89.28423
zdef 1 levels 850
*date initialization may 2026, date issued jun 2026 and valid for jul 2026 (1 month)
tdef 1 linear 00Z01may2026 1mo
vars 1
urtwa 0 99 rotational zonal wind total (m/s)
ENDVARS
