dset ^BAM12_2026080100_SEAS00.dat
title CPTEC/INPE seasonal forecast ensemble mean (15 members) issued sep 2026 for seas0: oct 2026 to dec 2026 (1 season)
*Variable:  stream function total (m^2/s)
undef -999000000
*Data Dimensions:
xdef 384 linear 0 0.9375
ydef 192 linear -89.531 0.9375
zdef 1 levels 850
*date initialization aug 2026, date issued sep 2026 and valid for oct 2026 to dec 2026 (1 season)
tdef 1 linear 00Z01aug2026 1mo
vars 1
psia 0 99 stream function total (m^2/s)
ENDVARS
