dset ^BAM12_2026080100_MNTH01.dat
title CPTEC/INPE seasonal forecast ensemble mean (15 members) issued sep 2026 for mnth1: oct 2026 (1 month)
*Variable:  precipitation anomaly (mm)
undef -999000000
*Data Dimensions:
xdef 384 linear 0 0.9375
ydef 192 linear -89.531 0.9375
zdef 1 levels 1000
*date initialization aug 2026, date issued sep 2026 and valid for oct 2026 (1 month)
tdef 1 linear 00Z01aug2026 1mo
vars 1
preca 0 99 precipitation anomaly (mm)
ENDVARS
