dset ^BAM12_2026080100_SEAS01.dat
title CPTEC/INPE seasonal forecast ensemble mean (15 members) issued sep 2026 for seas1: nov 2026 to jan 2027 (1 season)
*Variable:  velocity potential total (m^2/s)
undef -999000000
*Data Dimensions:
xdef 384 linear 0 0.9375
ydef 192 linear -89.531 0.9375
zdef 1 levels 850
*date initialization aug 2026, date issued sep 2026 and valid for nov 2026 to jan 2027 (1 season)
tdef 1 linear 00Z01aug2026 1mo
vars 1
chia 0 99 velocity potential total (m^2/s)
ENDVARS
