dset ^BAM12_CALB_2026080100_SEAS02.dat
title calibrated CPTEC/INPE seasonal forecast issued sep 2026 for seas2: nov 2026 to jan 2027 (1 season)
*Variable:  precipitation (mm)
undef -999000000
*Data Dimensions:
xdef 384 linear 0 0.9375
ydef 192 linear -89.531 0.9375
zdef 1 levels 1000
*date initialization aug 2026, date issued sep 2026 and valid for nov 2026 to jan 2027 (1 season)
tdef 1 linear 00Z01aug2026 1dy
vars 1
prec 0 99 precipitation (mm)
ENDVARS
