dset ^BAM12_CALB_2026090100_SEAS01.dat
title calibrated CPTEC/INPE seasonal forecast issued oct 2026 for seas1: nov 2026 to jan 2027 (1 season)
*Variable:  precipitation anomaly (mm)
undef -999000000
*Data Dimensions:
xdef 384 linear 0 0.9375
ydef 192 linear -89.531 0.9375
zdef 1 levels 1000
*date initialization sep 2026, date issued oct 2026 and valid for nov 2026 to jan 2027 (1 season)
tdef 1 linear 00Z01sep2026 1dy
vars 1
preca 0 99 precipitation anomaly (mm)
ENDVARS
