dset ^eta_40km_2026082400+2026083022.grb
title File
undef 1e+20
dtype grib
index ^eta_40km_2026082400+2026083022.gmp
xdef 144 linear -83.000000 0.400000
ydef 157 linear -50.200001 0.400000
zdef 22 levels
1020 1000 950 925 900 850 800 750 700 650 
600 550 500 450 400 350 300 250 200 150 
100 50 
tdef 1 linear 22Z30aug2026  1hr
vars 64
pslm      0  136,  1,  0,  0 M S L PRESSURE (MESINGER METHOD) [hPa]
pslc      0  135,  1,  0,  0 SURFACE PRESSURE [hPa]
topo      0  132,  1,  0,  0 TOPOGRAPHY [m]
lsmk      0   81,  1,  0,  0 LAND SEA MASK [0,1]
tp2m      0  128,  1,  0,  0 2 METRE TEMPERATURE [K]
mxtp      0   15,  1,  0,  0 MAXIMUM TEMPERATURE [K]
mntp      0   16,  1,  0,  0 MINIMUM TEMPERATURE [K]
dp2m      0  129,  1,  0,  0 2 METRE DEWPOINT TEMPERATURE [K]
u10m      0  130,  1,  0,  0 10 METRE U-WIND COMPONENT [m/s]
v10m      0  131,  1,  0,  0 10 METRE V-WIND COMPONENT [m/s]
u100      0  216,  1,  0,  0 100 METRE U-WIND COMPONENT [m/s]
v100      0  217,  1,  0,  0 100 METRE V-WIND COMPONENT [m/s]
prec      0   61,  1,  0,  0 TOTAL PRECIPITATION [Kg/m2/day]
prcv      0   63,  1,  0,  0 CONVECTIVE PRECIPITATION [Kg/m2/day]
prge      0   62,  1,  0,  0 LARGE SCALE PRECIPITATION [Kg/m2/day]
neve      0   64,  1,  0,  0 SNOWFALL [Kg/m2/day]
clsf      0  121,  1,  0,  0 LATENT HEAT FLUX FROM SURFACE [W/m2]
cssf      0  122,  1,  0,  0 SENSIBLE HEAT FLUX FROM SURFACE [W/m2]
ghfl      0  198,  1,  0,  0 TIME AVE GROUND HT FLX [W/m2]
tsfc      0  187,  1,  0,  0 SURFACE TEMPERATURE [K]
qsfc      0  181,  1,  0,  0 SURFACE SPEC HUMIDITY [kg/kg]
tgsc      0  191,  1,  0,  0 GROUND/SURFACE COVER TEMPERATURE [K]
tgrz      0  175,  1,  0,  0 SOIL TEMPERATURE OF ROOT ZONE [K]
ussl      0  182,  1,  0,  0 SOIL WETNESS OF SURFACE [0-1]
uzrs      0  183,  1,  0,  0 SOIL WETNESS OF ROOT ZONE [0-1]
smav      0  174,  1,  0,  0 SOIL MOISTURE AVAILABILITY [0-1]
rnof      0  178,  1,  0,  0 RUNOFF [kg/m2/s)]
zorl      0   83,  1,  0,  0 ROUGHNESS LENGTH [m]
evpp      0  177,  1,  0,  0 POTENTIAL SFC EVAPORATION [m]
usst      0  193,  1,  0,  0 SURFACE ZONAL WIND STRESS [Pa]
vsst      0  195,  1,  0,  0 SURFACE MERIDIONAL WIND STRESS [Pa]
lwnv      0   73,  1,  0,  0 LOW CLOUD COVER [0-1]
mdnv      0   74,  1,  0,  0 MEDIUM CLOUD COVER [0-1]
hinv      0   75,  1,  0,  0 HIGH CLOUD COVER [0-1]
cbnt      0  149,  1,  0,  0 MEAN CLOUD COVER [0-1]
ocis      0  209,  1,  0,  0 DOWNWARD SHORT WAVE AT GROUND [W/m2]
olis      0  207,  1,  0,  0 DOWNWARD LONG WAVE AT BOTTOM [W/m2]
oces      0  212,  1,  0,  0 UPWARD SHORT WAVE AT GROUND [W/m2]
oles      0  211,  1,  0,  0 UPWARD LONG WAVE AT BOTTOM [W/m2]
roce      0  214,  1,  0,  0 UPWARD SHORT WAVE AT TOP [W/m2]
role      0  114,  1,  0,  0 OUTGOING LONG WAVE AT TOP [W/m2]
albe      0   84,  1,  0,  0 ALBEDO [%]
cape      0  140,  1,  0,  0 CONVECTIVE AVAIL. POT.ENERGY [m2/s2]
cine      0  141,  1,  0,  0 CONVECTIVE INHIB. ENERGY [m2/s2]
bli       0   77,  1,  0,  0 BEST LIFTED INDEX (TO 500 HPA) [K]
agpl      0   54,  1,  0,  0 INST. PRECIPITABLE WATER [Kg/m2]
tppp      0  157,  1,  0,  0 TROPOPAUSE PRESSURE [hPa]
fzht      0  152,  1,  0,  0 FREEZING LEVEL HEIGHT [m]
fzrh      0  153,  1,  0,  0 FREEZING LEVEL RELATIVE HUMIDITY [%]
mxwp      0  146,  1,  0,  0 MAXIMUM WIND PRESS. LVL [hPa]
mxwu      0  138,  1,  0,  0 MAXIMUM U-WIND [m/s]
mxwv      0  139,  1,  0,  0 MAXIMUM V-WIND [m/s]
pcbs      0  150,  1,  0,  0 PRESSURE AT CLOUD BASE [hPa]
pctp      0  151,  1,  0,  0 PRESSURE AT CLOUD TOP [hPa]
zgeo     22    7,100 GEOPOTENTIAL HEIGHT [gpm]
uvel     22   33,100 ZONAL WIND (U) [m/s]
vvel     22   34,100 MERIDIONAL WIND (V) [m/s]
temp     22   11,100 ABSOLUTE TEMPERATURE [K]
umrl     22   52,100 RELATIVE HUMIDITY [no Dim]
omeg     22   39,100 OMEGA [Pa/s]
umes     22   51,100 SPECIFIC HUMIDITY [kg/kg]
psat     22   14,100 PSEUDO-ADIABATIC POTENTIAL TEMPERATURE [K]
wtnv     22   76,100 CLOUD WATER [kg/m2]
itnv     22   58,100 CLOUD ICE [kg/m2]
endvars
