dset ^GPOSNMC20260816002026081600P.inz.TQ0666L064.grb
*
index ^GPOSNMC20260816002026081600P.inz.TQ0666L064.idx
*
undef -2.56E+33
*
title PRESSURE HISTORY    CPTEC AGCM REVIS 1.0 2000  T0666L64  COL
*
dtype grib   255
*
options yrev
*
xdef  2000 linear    0.000   0.1800000000
ydef  1000 linear  -89.910   0.1800000000
tdef     1 linear 00Z16AUG2026 6hr
*
zdef    33 levels  1020 1000  975  950  925  900  875  850  825  800
                  775  750  725  700  675  650  600  550  500  450
                  400  350  300  250  200  150  100   70   50   30
                   20   10    3
vars    33
topo  0 132,1,0 ** surface TOPOGRAPHY [m]
lsmk  0  81,1,0 ** surface LAND SEA MASK [0,1]
PSLC    0  135,    1,    0  ** sfc    SURFACE PRESSURE                        (HPA             )
UVES    0  192,    1,    0  ** sfc    SURFACE ZONAL WIND (U)                  (M/S             )
UVEL   33   33,  100,    0  **        ZONAL WIND (U)                          (M/S             )
VVES    0  194,    1,    0  ** sfc    SURFACE MERIDIONAL WIND (V)             (M/S             )
VVEL   33   34,  100,    0  **        MERIDIONAL WIND (V)                     (M/S             )
OMEG   33   39,  100,    0  **        OMEGA                                   (PA/S            )
VORT   33   43,  100,    0  **        VORTICITY                               (1/S             )
FCOR   33   35,  100,    0  **        STREAM FUNCTION                         (M2/S            )
POTV   33   36,  100,    0  **        VELOCITY POTENTIAL                      (M2/S            )
ZGEO   33    7,  100,    0  **        GEOPOTENTIAL HEIGHT                     (GPM             )
PSNM    0    2,  102,    0  ** msl    SEA LEVEL PRESSURE                      (HPA             )
TEMS    0  188,    1,    0  ** sfc    SURFACE ABSOLUTE TEMPERATURE            (K               )
TEMP   33   11,  100,    0  **        ABSOLUTE TEMPERATURE                    (K               )
UMRS    0  226,    1,    0  ** sfc    SURFACE RELATIVE HUMIDITY               (NO DIM          )
UMRL   33   52,  100,    0  **        RELATIVE HUMIDITY                       (NO DIM          )
UMES   33   51,  100,    0  **        SPECIFIC HUMIDITY                       (KG/KG           )
AGPL    0   54,  200,    0  ** atm    INST. PRECIPITABLE WATER                (KG/M2           )
TSFC    0  187,    1,    0  ** sfc    SURFACE TEMPERATURE                     (K               )
DSTP    0   85,  112,    0  ** landt  DEEP SOIL TEMPERATURE                   (K               )
USSL    0  182,    1,    0  ** sfc    SOIL WETNESS OF SURFACE                 (0-1             )
UZRS    0  183,  112,    0  ** landt  SOIL WETNESS OF ROOT ZONE               (0-1             )
UZDS    0  184,  112,    0  ** landt  SOIL WETNESS OF DRAINAGE ZONE           (0-1             )
TP2M    0  128,  105,    2  ** sfc2m  TEMPERATURE AT 2-M FROM SURFACE         (K               )
DP2M    0  129,  105,    2  ** sfc2m  2 METRE DEWPOINT TEMPERATURE            (K               )
Q02M    0  199,    1,    0  ** sfc    SPECIFIC HUMIDITY AT 2-M FROM SURFACE   (KG/KG           )
U10M    0  130,  105,   10  ** sfc10m 10 METRE U-WIND COMPONENT               (M/S             )
V10M    0  131,  105,   10  ** sfc10m 10 METRE V-WIND COMPONENT               (M/S             )
DO2A    0  155,  105,    2  ** sfc2m  PARTIAL OXYGEN DENSITY                  (g/m**3          )
LIQP   33  186,  100,    0  **        LIQ MIXING RATIO PROGNOSTIC             (KG/KG           )
ICEP   33  185,  100,    0  **        ICE MIXING RATIO PROGNOSTIC             (KG/KG           )
CLDP   33  176,  100,    0  **        CLOUD TOTAL PROGNOSTIC                  (%               )
endvars
